View In:
ArcGIS JavaScript
ArcGIS Online Map Viewer
ArcGIS Earth
ArcMap
View Footprint In:
ArcGIS Online Map Viewer
Service Description: Transneft/Airbus_DTM
Name: Transneft/Airbus_DTM
Description:
Single Fused Map Cache: false
Extent:
XMin: 6221051.284726755
YMin: 7258711.884375004
XMax: 6265405.918071754
YMax: 7296337.872840004
Spatial Reference: 102100
(3857)
Initial Extent:
XMin: 6221051.284726755
YMin: 7258711.884375004
XMax: 6265405.918071754
YMax: 7296337.872840004
Spatial Reference: 102100
(3857)
Full Extent:
XMin: 6221051.284726755
YMin: 7258711.884375004
XMax: 6265405.918071754
YMax: 7296337.872840004
Spatial Reference: 102100
(3857)
Pixel Size X: 24.73766499999973
Pixel Size Y: 24.737664999999964
Band Count: 1
Pixel Type: F32
RasterFunction Infos: {"rasterFunctionInfos": [
{
"name": "HillshadeFunction",
"description": "A raster function template.",
"help": ""
},
{
"name": "None",
"description": "",
"help": ""
}
]}
Mensuration Capabilities: Basic
Has Histograms: true
Has Colormap: false
Has Multi Dimensions : false
Rendering Rule:
Min Scale: 0
Max Scale: 0
Copyright Text:
Service Data Type: esriImageServiceDataTypeGeneric
Min Values: 78.61017608642578
Max Values: 217.00587463378906
Mean Values: 106.68741717793773
Standard Deviation Values: 24.381303286694642
Object ID Field:
Fields:
None
Default Mosaic Method: Center
Allowed Mosaic Methods:
SortField:
SortValue: null
Mosaic Operator: First
Default Compression Quality: 75
Default Resampling Method: Bilinear
Max Record Count: null
Max Image Height: 4100
Max Image Width: 15000
Max Download Image Count: null
Max Mosaic Image Count: null
Allow Raster Function: true
Allow Copy: null
Allow Analysis: null
Allow Compute TiePoints: false
Supports Statistics: false
Supports Advanced Queries: false
Use StandardizedQueries: true
Raster Type Infos:
Name: Raster Dataset
Description: Supports all ArcGIS Raster Datasets
Help:
Has Raster Attribute Table: false
Edit Fields Info: null
Ownership Based AccessControl For Rasters: null
Child Resources:
Info
Histograms
Key Properties
Legend
Raster Function Infos
Supported Operations:
Export Image
Identify
Measure
Compute Histograms
Compute Statistics Histograms
Get Samples
Compute Class Statistics
Query Boundary
Compute Pixel Location
Validate
Project