View In:
ArcGIS JavaScript
ArcGIS Online Map Viewer
ArcGIS Earth
ArcMap
View Footprint In:
ArcGIS Online Map Viewer
Service Description: Test/TownImage
Name: Test/TownImage
Description:
Single Fused Map Cache: false
Extent:
XMin: 439844.49695000006
YMin: 6051133.400470001
XMax: 440411.64041000005
YMax: 6051878.884690001
Spatial Reference: 32640
(32640)
Initial Extent:
XMin: 439844.49695000006
YMin: 6051133.400470001
XMax: 440411.64041000005
YMax: 6051878.884690001
Spatial Reference: 32640
(32640)
Full Extent:
XMin: 439844.49695000006
YMin: 6051133.400470001
XMax: 440411.64041000005
YMax: 6051878.884690001
Spatial Reference: 32640
(32640)
Pixel Size X: 0.04133999999999942
Pixel Size Y: 0.04133999999999911
Band Count: 4
Pixel Type: U8
RasterFunction Infos: {"rasterFunctionInfos": [{
"name": "None",
"description": "",
"help": ""
}]}
Mensuration Capabilities: Basic
Has Histograms: true
Has Colormap: false
Has Multi Dimensions : false
Rendering Rule:
Min Scale: 0
Max Scale: 0
Copyright Text:
Service Data Type: esriImageServiceDataTypeGeneric
Min Values: 1, 1, 1, 255
Max Values: 255, 255, 255, 255
Mean Values: 117.65996947744, 112.07527487733, 87.076359814429, 255
Standard Deviation Values: 54.042193078676, 51.41858734882, 51.131802667185, 0
Object ID Field:
Fields:
None
Default Mosaic Method: Center
Allowed Mosaic Methods:
SortField:
SortValue: null
Mosaic Operator: First
Default Compression Quality: 75
Default Resampling Method: Bilinear
Max Record Count: null
Max Image Height: 4100
Max Image Width: 15000
Max Download Image Count: null
Max Mosaic Image Count: null
Allow Raster Function: true
Allow Copy: null
Allow Analysis: null
Allow Compute TiePoints: false
Supports Statistics: false
Supports Advanced Queries: false
Use StandardizedQueries: true
Raster Type Infos:
Name: Raster Dataset
Description: Supports all ArcGIS Raster Datasets
Help:
Has Raster Attribute Table: false
Edit Fields Info: null
Ownership Based AccessControl For Rasters: null
Child Resources:
Info
Histograms
Key Properties
Legend
Raster Function Infos
Supported Operations:
Export Image
Identify
Measure
Compute Histograms
Compute Statistics Histograms
Get Samples
Compute Class Statistics
Query Boundary
Compute Pixel Location
Validate
Project